BEGIN:VCALENDAR
VERSION:2.0
PRODID:-//Onguard - ECPv4.9.13//NONSGML v1.0//EN
CALSCALE:GREGORIAN
METHOD:PUBLISH
X-WR-CALNAME:Onguard
X-ORIGINAL-URL:https://www.onguard.com
X-WR-CALDESC:Events for Onguard
BEGIN:VTIMEZONE
TZID:UTC
BEGIN:STANDARD
TZOFFSETFROM:+0000
TZOFFSETTO:+0000
TZNAME:UTC
DTSTART:20200101T000000
END:STANDARD
END:VTIMEZONE
BEGIN:VEVENT
DTSTART;TZID=UTC:20200116T093000
DTEND;TZID=UTC:20200116T100000
DTSTAMP:20191223T011330
CREATED:20190927T140633Z
LAST-MODIFIED:20191219T101844Z
UID:18156-1579167000-1579168800@www.onguard.com
SUMMARY:Webinar | From risk management to bailiff: Onguard’s integrated order-to-cash platform (part 1)
DESCRIPTION:Integrated order-to-cash\nOrder-to-cash is a business process that involves a series of stages\, starting with a customer’s purchase and ending with the payment and processing of the invoice. \nAn efficient and effective order-to-cash process is vital in ensuring a company’s success as well as fostering strong customer relationships. From risk management to credit and receivables management: each stage affects the next. Linking these stages provides companies with greater control over the entire process. \nIn this webinar\, we will discuss all parts of the order-to-cash chain and how they work in combination with CreditManager. We will discuss the following: \n\nRisk management and CreditManager \nCollector and CreditManager \nFrom Collector to Bailiff\n\nIn part 2 on January 21st we will discuss: \n\nInvoicing and CreditManager\nCash allocation and CreditManager\n\nWould you like to work easier\, more efficiently and effectively? Then join us for the webinar: From risk management to bailiff: Onguard’s integrated order-to-cash platform. \nSign up for this webinar:\n﻿﻿﻿﻿﻿ \nFor more information regarding Onguard’s integrated software platform\, request a demo. \n
URL:https://www.onguard.com/events/from-risk-management-to-bailiff-onguards-integrated-order-to-cash-platform/
CATEGORIES:Webinar
ATTACH;FMTTYPE=image/jpeg:https://www.onguard.com/newsite/wp-content/uploads/2019/04/80.jpg
END:VEVENT
BEGIN:VEVENT
DTSTART;TZID=UTC:20200121T090000
DTEND;TZID=UTC:20200121T090000
DTSTAMP:20191223T011330
CREATED:20191023T115258Z
LAST-MODIFIED:20191219T101723Z
UID:18309-1579597200-1579597200@www.onguard.com
SUMMARY:Webinar | From risk management to bailiff: Onguard’s integrated order-to-cash platform (part 2)
DESCRIPTION:Integrated order-to-cash\nOrder-to-cash is a business process that involves a series of stages\, starting with a customer’s purchase and ending with the payment and processing of the invoice. \nAn efficient and effective order-to-cash process is vital in ensuring a company’s success as well as fostering strong customer relationships. From risk management to credit and receivables management: each stage affects the next. Linking these stages provides companies with greater control over the entire process. \nIn part 2 of this webinar series\, we will cover the remaining parts of the order-to-cash chain and how they work in combination with CreditManager. We will discuss the following: \n\nInvoicing and CreditManager\nCash allocation and CreditManager\n\nIn part 1 we discussed: \n\nRisk management and CreditManager\nCollector and CreditManager\nFrom Collector to Bailiff\n\nWould you like to work easier\, more efficiently and effectively? Then join us for the webinar: From risk management to bailiff: Onguard’s integrated order-to-cash platform. \nSign up for this webinar:\n﻿﻿﻿﻿﻿ \nFor more information regarding Onguard’s integrated software platform\, request a demo. \n
URL:https://www.onguard.com/events/webinar-from-risk-management-to-bailiff-onguards-integrated-order-to-cash-platform-part-2/
CATEGORIES:Webinar
ATTACH;FMTTYPE=image/jpeg:https://www.onguard.com/newsite/wp-content/uploads/2019/04/80.jpg
END:VEVENT
BEGIN:VEVENT
DTSTART;TZID=UTC:20200123T094500
DTEND;TZID=UTC:20200123T141500
DTSTAMP:20191223T011331
CREATED:20191210T124216Z
LAST-MODIFIED:20191210T130238Z
UID:18871-1579772700-1579788900@www.onguard.com
SUMMARY:Commercial Credit & Collections Conference
DESCRIPTION:We will be attending the “Commercial Credit & Collections Conference\, January 23rd\, London. \nWould you like to meet us there for a chat or coffee just fill in the form. \nMore information about this event  \n  \nLet’s meet\n!function(o\,t\,e\,a){o._aoForms=o._aoForms||[]\,o._aoForms.push(a);var n=function(){var o=t.createElement(e);o.src=("https:"==t.location.protocol?"https://":"http://")+"cta.onguard.com/acton/content/form_embed.js"\,o.async=!0;for(var a=t.getElementsByTagName(e)[0]\,n=a.parentNode\,c=document.getElementsByTagName("script")\,r=!1\,s=0;s
URL:https://www.onguard.com/events/commercial-credit-collections-conference/
LOCATION:The Leadenhall Building\, 122 Leadenhall Street\, London\, EC3V 4AN
CATEGORIES:External event
ATTACH;FMTTYPE=image/jpeg:https://www.onguard.com/newsite/wp-content/uploads/2019/11/1.jpg
END:VEVENT
BEGIN:VEVENT
DTSTART;TZID=UTC:20200205T080000
DTEND;TZID=UTC:20200205T170000
DTSTAMP:20191223T011331
CREATED:20191210T123721Z
LAST-MODIFIED:20191210T124302Z
UID:18863-1580889600-1580922000@www.onguard.com
SUMMARY:CICM British Credit Awards
DESCRIPTION:On Wednesday 5 February 2020 the ceremony of the CICM British Credit Awards will be hold at the Royal Lancaster in London.\nOnguard will be attending the awards since we are proud finalist. \nWould you like to meet us there for a chat or a toast just fill in the form. \nMore information about the CICM British Credit Awards  \n \n\n\n\n\n\n\n\nLet’s meet\n!function(o\,t\,e\,a){o._aoForms=o._aoForms||[]\,o._aoForms.push(a);var n=function(){var o=t.createElement(e);o.src=("https:"==t.location.protocol?"https://":"http://")+"cta.onguard.com/acton/content/form_embed.js"\,o.async=!0;for(var a=t.getElementsByTagName(e)[0]\,n=a.parentNode\,c=document.getElementsByTagName("script")\,r=!1\,s=0;s
URL:https://www.onguard.com/events/cicm-british-credit-awards/
LOCATION:The Royal Lancaster\, Lancaster Terrace\, London\, W2 @TY
CATEGORIES:External event
ATTACH;FMTTYPE=image/jpeg:https://www.onguard.com/newsite/wp-content/uploads/2018/05/finance-manager.jpg
END:VEVENT
BEGIN:VEVENT
DTSTART;TZID=UTC:20200305T110000
DTEND;TZID=UTC:20200305T140000
DTSTAMP:20191223T011331
CREATED:20191115T135256Z
LAST-MODIFIED:20191210T130509Z
UID:18599-1583406000-1583416800@www.onguard.com
SUMMARY:Automotive Lunch Club
DESCRIPTION:Evolution and automation; digitisation of the Automotive market\nOn March 5th\, 2020 Onguard organises the Automotive Lunch Club\, an informal session about ‘How an effective credit management process helps you to achieve financial stability within the rapidly evolving automotive industry’.\nDuring this session professionals from companies in automotive discuss this theme. \nThe automotive sector is under pressure from up-and-coming trends such as EASCY\, climate agreements and the mobility behaviour of consumers. The digitisation and farreaching personalisation of customer communication also plays a major role in this development. What impact will all of this have on customer behaviour? How can you distinguish yourself as an organisation within the automotive sector when the differences between you and your competitors are growing smaller? And how do you maintain control of your customers’ payment performance and your cash flow? During this informal lunch session in the hart of UKs automotive industry\, we take a closer look at trends in the sector and discuss how changing financial processes can contribute to greater customer satisfaction\, customer retention and continuity within the organisation. \nJoin your peers in automotive in this session. Sign up! \nProgram\n11.00 – 11.15 AM Welcome and coffee\n11.15 – 12.45 AM Introduction & conversation\n12.45 – 13.45 AM Lunch \nLocation\nNice location in The Midlands. \nMore information\nWould you like to receive more information? Contact us via marketing@onguard.com or call +31 (0) 88 256 66 66 and ask for Nicole Xavier.\n\n\n!function(o\,t\,e\,a){o._aoForms=o._aoForms||[]\,o._aoForms.push(a);var n=function(){var o=t.createElement(e);o.src=("https:"==t.location.protocol?"https://":"http://")+"cta.onguard.com/acton/content/form_embed.js"\,o.async=!0;for(var a=t.getElementsByTagName(e)[0]\,n=a.parentNode\,c=document.getElementsByTagName("script")\,r=!1\,s=0;s
URL:https://www.onguard.com/events/automative-lunch-club/
ATTACH;FMTTYPE=image/jpeg:https://www.onguard.com/newsite/wp-content/uploads/2019/07/Zuiver-lunchclub.jpg
END:VEVENT
BEGIN:VEVENT
DTSTART;TZID=UTC:20200319T080000
DTEND;TZID=UTC:20200319T170000
DTSTAMP:20191223T011331
CREATED:20191209T160458Z
LAST-MODIFIED:20191209T160458Z
UID:18854-1584604800-1584637200@www.onguard.com
SUMMARY:Credit Summit UK\, London
DESCRIPTION:UK’s largest\, most established credit conference and exhibition returns to London for its 12th year\nThe Credit Summit\, sponsored by Experian\, will feature nine individual conferences and a new Women in Credit Forum for professionals across the entire spectrum of credit. The diverse conference streams ensure that there is always something for everyone.\n\nWe will be there! Would you like to meet our colleagues\, just let us know by filling in the form below.\nMore information about this event  \n  \nLet’s meet\n!function(o\,t\,e\,a){o._aoForms=o._aoForms||[]\,o._aoForms.push(a);var n=function(){var o=t.createElement(e);o.src=("https:"==t.location.protocol?"https://":"http://")+"cta.onguard.com/acton/content/form_embed.js"\,o.async=!0;for(var a=t.getElementsByTagName(e)[0]\,n=a.parentNode\,c=document.getElementsByTagName("script")\,r=!1\,s=0;s
URL:https://www.onguard.com/events/credit-summit-uk-london/
CATEGORIES:External event
ATTACH;FMTTYPE=image/jpeg:https://www.onguard.com/newsite/wp-content/uploads/2018/11/AI-en-finance.jpg
END:VEVENT
BEGIN:VEVENT
DTSTART;TZID=UTC:20200618T080000
DTEND;TZID=UTC:20200618T170000
DTSTAMP:20191223T011331
CREATED:20191209T155023Z
LAST-MODIFIED:20191210T130355Z
UID:18843-1592467200-1592499600@www.onguard.com
SUMMARY:Working Capital Management Symposium\, Dusseldorf\, Germany
DESCRIPTION:We will be attending the “Working Capital Management Symposium\, June 18th 2020. \nWould you like to meet us there for a chat or coffee just fill in the form. \nMore information about this event  \n  \nLet’s meet\n!function(o\,t\,e\,a){o._aoForms=o._aoForms||[]\,o._aoForms.push(a);var n=function(){var o=t.createElement(e);o.src=("https:"==t.location.protocol?"https://":"http://")+"cta.onguard.com/acton/content/form_embed.js"\,o.async=!0;for(var a=t.getElementsByTagName(e)[0]\,n=a.parentNode\,c=document.getElementsByTagName("script")\,r=!1\,s=0;s
URL:https://www.onguard.com/events/working-capital-management-symposium-dusseldorf-germay/
CATEGORIES:External event
ATTACH;FMTTYPE=image/jpeg:https://www.onguard.com/newsite/wp-content/uploads/2019/08/31018694_m.jpg
END:VEVENT
BEGIN:VEVENT
DTSTART;TZID=UTC:20200917T080000
DTEND;TZID=UTC:20200917T170000
DTSTAMP:20191223T011331
CREATED:20191209T154134Z
LAST-MODIFIED:20191209T161151Z
UID:18836-1600329600-1600362000@www.onguard.com
SUMMARY:"SAP TRIFFT CREDIT MANAGER" VERANSTALTUNG 10 September 2020\, Waldorff Germany
DESCRIPTION:We will be attending the “SAP TRIFFT CREDIT MANAGER” VERANSTALTUNG 10 September 2020. \nWould you like to meet us there for a chat or coffee just fill in the form. \nMore information about this event  \n  \nLet’s meet\n!function(o\,t\,e\,a){o._aoForms=o._aoForms||[]\,o._aoForms.push(a);var n=function(){var o=t.createElement(e);o.src=("https:"==t.location.protocol?"https://":"http://")+"cta.onguard.com/acton/content/form_embed.js"\,o.async=!0;for(var a=t.getElementsByTagName(e)[0]\,n=a.parentNode\,c=document.getElementsByTagName("script")\,r=!1\,s=0;s
URL:https://www.onguard.com/events/sap-trifft-credit-manager-veranstaltung-10-september-2020-waldorff-germany/
CATEGORIES:External event
ATTACH;FMTTYPE=image/jpeg:https://www.onguard.com/newsite/wp-content/uploads/2019/11/47.jpg
END:VEVENT
END:VCALENDAR